BEGIN:VCALENDAR
VERSION:2.0
PRODID:-//Arkansas Heart Hospital - ECPv6.15.20//NONSGML v1.0//EN
CALSCALE:GREGORIAN
METHOD:PUBLISH
X-ORIGINAL-URL:https://www.arheart.com
X-WR-CALDESC:Events for Arkansas Heart Hospital
REFRESH-INTERVAL;VALUE=DURATION:PT1H
X-Robots-Tag:noindex
X-PUBLISHED-TTL:PT1H
BEGIN:VTIMEZONE
TZID:America/Chicago
BEGIN:DAYLIGHT
TZOFFSETFROM:-0600
TZOFFSETTO:-0500
TZNAME:CDT
DTSTART:20240310T080000
END:DAYLIGHT
BEGIN:STANDARD
TZOFFSETFROM:-0500
TZOFFSETTO:-0600
TZNAME:CST
DTSTART:20241103T070000
END:STANDARD
BEGIN:DAYLIGHT
TZOFFSETFROM:-0600
TZOFFSETTO:-0500
TZNAME:CDT
DTSTART:20250309T080000
END:DAYLIGHT
BEGIN:STANDARD
TZOFFSETFROM:-0500
TZOFFSETTO:-0600
TZNAME:CST
DTSTART:20251102T070000
END:STANDARD
BEGIN:DAYLIGHT
TZOFFSETFROM:-0600
TZOFFSETTO:-0500
TZNAME:CDT
DTSTART:20260308T080000
END:DAYLIGHT
BEGIN:STANDARD
TZOFFSETFROM:-0500
TZOFFSETTO:-0600
TZNAME:CST
DTSTART:20261101T070000
END:STANDARD
END:VTIMEZONE
BEGIN:VEVENT
DTSTART;TZID=America/Chicago:20250812T150000
DTEND;TZID=America/Chicago:20250812T170000
DTSTAMP:20260421T063648
CREATED:20250801T165322Z
LAST-MODIFIED:20250801T165322Z
UID:9899-1755010800-1755018000@www.arheart.com
SUMMARY:Patient Portal Enrollment Fairs
DESCRIPTION:Need help signing up for our new patient portal? We’re here for you! We’ll have patient portal enrollment fairs with team members ready to assist you and cover the basics of how to best use your portal. No appointment necessary. \nSign up below\, and we’ll see you soon! \n\n\n                \n                        Name\n                            \n                            \n                                                    \n                                                    First\n                                                \n                            \n                            \n                                                    \n                                                    Last\n                                                \n                            \n                        Email\n                            \n                        I need help with:\n								\n								Signing up for the portal\n							\n								\n								Understanding how to use the portal\n							Comments:\n          \n            \n            \n            \n            \n            \n            \n            \n            \n            \n            \n            \n            \n            \n        \n                        Δ
URL:https://www.arheart.com/event/patient-portal-enrollment-fairs/2025-08-12/
LOCATION:Arkansas Heart Hospital\, 1701 South Shackleford Rd.\, Little Rock\, AR\, 72211\, United States
END:VEVENT
BEGIN:VEVENT
DTSTART;TZID=America/Chicago:20250814T150000
DTEND;TZID=America/Chicago:20250814T170000
DTSTAMP:20260421T063648
CREATED:20250801T165322Z
LAST-MODIFIED:20250801T165322Z
UID:9900-1755183600-1755190800@www.arheart.com
SUMMARY:Patient Portal Enrollment Fairs
DESCRIPTION:Need help signing up for our new patient portal? We’re here for you! We’ll have patient portal enrollment fairs with team members ready to assist you and cover the basics of how to best use your portal. No appointment necessary. \nSign up below\, and we’ll see you soon! \n\n                \n                        Name\n                            \n                            \n                                                    \n                                                    First\n                                                \n                            \n                            \n                                                    \n                                                    Last\n                                                \n                            \n                        Email\n                            \n                        I need help with:\n								\n								Signing up for the portal\n							\n								\n								Understanding how to use the portal\n							Comments:\n          \n            \n            \n            \n            \n            \n            \n            \n            \n            \n            \n            \n            \n            \n        \n                        Δ
URL:https://www.arheart.com/event/patient-portal-enrollment-fairs/2025-08-14/
LOCATION:Arkansas Heart Hospital\, 1701 South Shackleford Rd.\, Little Rock\, AR\, 72211\, United States
END:VEVENT
BEGIN:VEVENT
DTSTART;TZID=America/Chicago:20250819T150000
DTEND;TZID=America/Chicago:20250819T170000
DTSTAMP:20260421T063648
CREATED:20250801T165322Z
LAST-MODIFIED:20250801T165322Z
UID:9901-1755615600-1755622800@www.arheart.com
SUMMARY:Patient Portal Enrollment Fairs
DESCRIPTION:Need help signing up for our new patient portal? We’re here for you! We’ll have patient portal enrollment fairs with team members ready to assist you and cover the basics of how to best use your portal. No appointment necessary. \nSign up below\, and we’ll see you soon! \n\n                \n                        Name\n                            \n                            \n                                                    \n                                                    First\n                                                \n                            \n                            \n                                                    \n                                                    Last\n                                                \n                            \n                        Email\n                            \n                        I need help with:\n								\n								Signing up for the portal\n							\n								\n								Understanding how to use the portal\n							Comments:\n          \n            \n            \n            \n            \n            \n            \n            \n            \n            \n            \n            \n            \n            \n        \n                        Δ
URL:https://www.arheart.com/event/patient-portal-enrollment-fairs/2025-08-19/
LOCATION:Arkansas Heart Hospital\, 1701 South Shackleford Rd.\, Little Rock\, AR\, 72211\, United States
END:VEVENT
BEGIN:VEVENT
DTSTART;TZID=America/Chicago:20250821T150000
DTEND;TZID=America/Chicago:20250821T170000
DTSTAMP:20260421T063648
CREATED:20250801T165322Z
LAST-MODIFIED:20250801T165322Z
UID:9902-1755788400-1755795600@www.arheart.com
SUMMARY:Patient Portal Enrollment Fairs
DESCRIPTION:Need help signing up for our new patient portal? We’re here for you! We’ll have patient portal enrollment fairs with team members ready to assist you and cover the basics of how to best use your portal. No appointment necessary. \nSign up below\, and we’ll see you soon! \n\n                \n                        Name\n                            \n                            \n                                                    \n                                                    First\n                                                \n                            \n                            \n                                                    \n                                                    Last\n                                                \n                            \n                        Email\n                            \n                        I need help with:\n								\n								Signing up for the portal\n							\n								\n								Understanding how to use the portal\n							Comments:\n          \n            \n            \n            \n            \n            \n            \n            \n            \n            \n            \n            \n            \n            \n        \n                        Δ
URL:https://www.arheart.com/event/patient-portal-enrollment-fairs/2025-08-21/
LOCATION:Arkansas Heart Hospital\, 1701 South Shackleford Rd.\, Little Rock\, AR\, 72211\, United States
END:VEVENT
BEGIN:VEVENT
DTSTART;TZID=America/Chicago:20250826T150000
DTEND;TZID=America/Chicago:20250826T170000
DTSTAMP:20260421T063648
CREATED:20250801T165322Z
LAST-MODIFIED:20250801T165322Z
UID:9903-1756220400-1756227600@www.arheart.com
SUMMARY:Patient Portal Enrollment Fairs
DESCRIPTION:Need help signing up for our new patient portal? We’re here for you! We’ll have patient portal enrollment fairs with team members ready to assist you and cover the basics of how to best use your portal. No appointment necessary. \nSign up below\, and we’ll see you soon! \n\n                \n                        Name\n                            \n                            \n                                                    \n                                                    First\n                                                \n                            \n                            \n                                                    \n                                                    Last\n                                                \n                            \n                        Email\n                            \n                        I need help with:\n								\n								Signing up for the portal\n							\n								\n								Understanding how to use the portal\n							Comments:\n          \n            \n            \n            \n            \n            \n            \n            \n            \n            \n            \n            \n            \n            \n        \n                        Δ
URL:https://www.arheart.com/event/patient-portal-enrollment-fairs/2025-08-26/
LOCATION:Arkansas Heart Hospital\, 1701 South Shackleford Rd.\, Little Rock\, AR\, 72211\, United States
END:VEVENT
END:VCALENDAR